BEGIN:VCALENDAR
VERSION:2.0
PRODID:-//ChamberMaster//Event Calendar 2.0//EN
METHOD:PUBLISH
X-PUBLISHED-TTL:P3D
REFRESH-INTERVAL:P3D
CALSCALE:GREGORIAN
BEGIN:VEVENT
DTSTART:20101218T160000Z
DTEND:20101218T173000Z
X-MICROSOFT-CDO-ALLDAYEVENT:FALSE
SUMMARY:Winter Kids in Parks Program at Homestead National Monument
DESCRIPTION:Hey Kids! Become winter nature detectives with the Park Rangers at Homestead National Monument of America. Bring your family and friends to the Kids in Parks Explore Your Winter World program on Saturday\, December 18 from 10:00 a.m. to 11:30 a.m. at Homestead`s Education Center.
X-ALT-DESC;FMTTYPE=text/html:Hey Kids! Become winter nature detectives with the Park Rangers at Homestead National Monument of America. Bring your family and friends to the Kids in Parks Explore Your Winter World program on Saturday\, December 18 from 10:00 a.m. to 11:30 a.m. at Homestead`s Education Center.
LOCATION:Education Center
UID:e.41.2827
SEQUENCE:3
DTSTAMP:20260425T014628Z
URL:https://business.beatricechamber.com/events/details/winter-kids-in-parks-program-at-homestead-national-monument-12-18-2010-2827
END:VEVENT

END:VCALENDAR
