BEGIN:VCALENDAR
VERSION:2.0
PRODID:-//ChamberMaster//Event Calendar 2.0//EN
METHOD:PUBLISH
X-PUBLISHED-TTL:P3D
REFRESH-INTERVAL:P3D
CALSCALE:GREGORIAN
BEGIN:VEVENT
DTSTART:20100321T160000Z
DTEND:20100321T180000Z
X-MICROSOFT-CDO-ALLDAYEVENT:FALSE
SUMMARY:Wisconsin-Style Fish Feed
DESCRIPTION:Wisconsin-style fish feed11 a.m. - 1 p.m.Sunday\, March 21\, 2010 All-you-can-eat-mealSt. Paul Lutheran School930 Prairie Lane\, Beatrice Freewill offering to Orphan Grain Train for the operation and shipping of medical supplies\, clothing\, and other goods to needy areas around the world.  Supplemental funds\, Thrivent Financial. Sponsored by St. Paul Lutheran Social Club
X-ALT-DESC;FMTTYPE=text/html:<div>Wisconsin-style fish feed</div><div>11 a.m. - 1 p.m.</div><div>Sunday\, March 21\, 2010</div><div>&nbsp\;</div><div>All-you-can-eat-meal</div><div>St. Paul Lutheran School</div><div>930 Prairie Lane\, Beatrice</div><div>&nbsp\;</div><div>Freewill offering to Orphan Grain Train for the operation and shipping of medical supplies\, clothing\, and other goods to needy areas around the world.&nbsp\; Supplemental funds\, Thrivent Financial.</div><div>&nbsp\;</div><div>Sponsored by St. Paul Lutheran Social&nbsp\;Club</div>
LOCATION:
UID:e.41.1700
SEQUENCE:3
DTSTAMP:20260425T152936Z
URL:https://business.beatricechamber.com/events/details/wisconsin-style-fish-feed-03-21-2010-1700
END:VEVENT

END:VCALENDAR
