BEGIN:VCALENDAR
VERSION:2.0
PRODID:-//ChamberMaster//Event Calendar 2.0//EN
METHOD:PUBLISH
X-PUBLISHED-TTL:P3D
REFRESH-INTERVAL:P3D
CALSCALE:GREGORIAN
BEGIN:VEVENT
DTSTART:20120325T160000Z
DTEND:20120325T180000Z
X-MICROSOFT-CDO-ALLDAYEVENT:FALSE
SUMMARY:Wisconsin Style Fish Feed
DESCRIPTION:Wisconsin Style Fish Feed\n\n\n\nSunday\, March 25\n\n11 am - 1 pm\n\n\n\nSt. Paul Lutheran School\, 930 Prairie Lane\, Beatr ice\n\n\n\nFreewill offering to Orphan Grain Train to ship medical supplies\, clothing and other goods to needy areas around the world.\n\n\n\nSupplemental funds by Thrivent.
X-ALT-DESC;FMTTYPE=text/html:Wisconsin Style Fish Feed<br />\n<br />\nSunday\, March 25<br />\n11 am - 1 pm<br />\n<br />\nSt. Paul Lutheran School\, 930 Prairie Lane\, Beatr ice<br />\n<br />\nFreewill offering to Orphan Grain Train to ship medical supplies\, clothing and other goods to needy areas around the world.<br />\n<br />\nSupplemental funds by Thrivent.
LOCATION:
UID:e.41.5430
SEQUENCE:3
DTSTAMP:20260422T172128Z
URL:https://business.beatricechamber.com/events/details/wisconsin-style-fish-feed-03-25-2012-5430
END:VEVENT

END:VCALENDAR
