BEGIN:VCALENDAR
VERSION:2.0
PRODID:-//ChamberMaster//Event Calendar 2.0//EN
METHOD:PUBLISH
X-PUBLISHED-TTL:P3D
REFRESH-INTERVAL:P3D
CALSCALE:GREGORIAN
BEGIN:VEVENT
DTSTART:20120909T160000Z
DTEND:20120909T180000Z
X-MICROSOFT-CDO-ALLDAYEVENT:FALSE
SUMMARY:Wisconsin-style fish feed
DESCRIPTION:First Trinity Lutheran Church will be sponsoring a Wisconsin-style fish feed in the fellowship hall.\n\nFish\, potatoes\, onions\, salads\, desserts\, and drinks will be served. Free will benefit to benefit the Orphan Grain Train.
X-ALT-DESC;FMTTYPE=text/html:First Trinity Lutheran Church will be sponsoring a Wisconsin-style fish feed in the fellowship hall.<br />\nFish\, potatoes\, onions\, salads\, desserts\, and drinks will be served. Free will benefit to benefit the Orphan Grain Train. 
LOCATION:First Trinity Lutheran Church 11668 W. State Hwy 4 Beatrice\, NE
UID:e.41.6628
SEQUENCE:3
DTSTAMP:20260422T090628Z
URL:https://business.beatricechamber.com/events/details/wisconsin-style-fish-feed-09-09-2012-6628
END:VEVENT

END:VCALENDAR
