BEGIN:VCALENDAR
VERSION:2.0
PRODID:-//ChamberMaster//Event Calendar 2.0//EN
METHOD:PUBLISH
X-PUBLISHED-TTL:P3D
REFRESH-INTERVAL:P3D
CALSCALE:GREGORIAN
BEGIN:VEVENT
DTSTART:20110318T233000Z
DTEND:20110319T023000Z
X-MICROSOFT-CDO-ALLDAYEVENT:FALSE
SUMMARY:"Wizard of Paws" Dessert/Auction Event
DESCRIPTION:Shine up those ruby slippers and get ready to follow the yellow brick road to the Beatrice Humane Society's ninth annual dessert event! This year's theme is "Wizard of Paws\," and this whirlwind of a fundraiser is scheduled for Friday\, March 18 at 6:30 p.m. at the Holiday Inn Express. Enjoy a buffet of appetizers and desserts\, and bid on our live and silent auction items. All proceeds go to benefit the animals at the Beatrice Animal Shelter.
X-ALT-DESC;FMTTYPE=text/html:Shine up those ruby slippers and get ready to follow the yellow brick road to the Beatrice Humane Society&#39\;s ninth annual dessert event! This year&#39\;s theme is &quot\;Wizard of Paws\,&quot\; and this whirlwind of a fundraiser is scheduled for Friday\, March 18 at 6:30 p.m. at the Holiday Inn Express. Enjoy a buffet of appetizers and desserts\, and bid on our live and silent auction items. All proceeds go to benefit the animals at the Beatrice Animal Shelter.
LOCATION:Beatrice Holiday Inn Express
UID:e.41.4196
SEQUENCE:3
DTSTAMP:20260424T212441Z
URL:https://business.beatricechamber.com/events/details/wizard-of-paws-dessert-auction-event-03-18-2011-4196
END:VEVENT

END:VCALENDAR
