BEGIN:VCALENDAR
VERSION:2.0
PRODID:-//ChamberMaster//Event Calendar 2.0//EN
METHOD:PUBLISH
X-PUBLISHED-TTL:P3D
REFRESH-INTERVAL:P3D
CALSCALE:GREGORIAN
BEGIN:VEVENT
DTSTART:20120623T134500Z
DTEND:20120623T210000Z
X-MICROSOFT-CDO-ALLDAYEVENT:FALSE
SUMMARY:Women of Faith Live Simulcast Event: "Beyond Brokenness"
DESCRIPTION:Women of Faith Live Simulcast Event: "Beyond Brokenness"\n\nSpeakers Include: Sheila Walsh\, author/speaker\; Lisa Harper\, gifted communicator\; Ken Davis\, comedian/storyteller\n\nSpeakers will address the questions:\n\n- Is it really okay not to be okay?\n\n- What is God's view of my brokenness?\n\n- Is it possible for me to live fully alive? What does that look like in real life?\n\n- How can my brokenness move me to change the world?\n\n- What new thing is God ready to do in my life?
X-ALT-DESC;FMTTYPE=text/html:Women of Faith Live Simulcast Event: &quot\;Beyond Brokenness&quot\;<br />\nSpeakers Include: Sheila Walsh\, author/speaker\; Lisa Harper\, gifted communicator\; Ken Davis\, comedian/storyteller<br />\nSpeakers will address the questions:<br />\n- Is it really okay not to be okay?<br />\n- What is God&#39\;s view of my brokenness?<br />\n- Is it possible for me to live fully alive? What does that look like in real life?<br />\n- How can my brokenness move me to change the world?<br />\n- What new thing is God ready to do in my life?
LOCATION:Beatrice Mennonite Church\, 1220 Summit Street\, Beatrice\, Nebraska\, 68310
UID:e.41.5731
SEQUENCE:3
DTSTAMP:20260422T131702Z
URL:https://business.beatricechamber.com/events/details/women-of-faith-live-simulcast-event-beyond-brokenness-06-23-2012-5731
END:VEVENT

END:VCALENDAR
