BEGIN:VCALENDAR
VERSION:2.0
PRODID:-//ChamberMaster//Event Calendar 2.0//EN
METHOD:PUBLISH
X-PUBLISHED-TTL:P3D
REFRESH-INTERVAL:P3D
CALSCALE:GREGORIAN
BEGIN:VEVENT
DTSTART:20100308T233000Z
DTEND:20100309T010000Z
X-MICROSOFT-CDO-ALLDAYEVENT:FALSE
SUMMARY:''Women on the Bridge'' Soroptimist's Promoting World Peace
DESCRIPTION:MARCH 8th\, 2010 is International Women's Day! \n\n"Join Us on the Bridge" on South Sixth Street by Veteran's Memorial Park.\n\nOur local Club Soroptimist International of Beatrice\, Nebraska is\n\npartnering with Women for Women International to host this event on March 8th\, 2010 from 5:30 TO 7:00 PM ON THE SOUTH 6TH STREET BRIDGE IN BEATRICE NEBRASKA. \n\n\n\nWe invite you to join us. Our goal is to attract attention for the need for WORLD PEACE.  We will meet at the Veteran's Memorial Park just south of the bridge. Bring your sack lunch if you like. \n\n\n\nTo register for this event click on the link below. If you have any questions\n\nplease contact Sharil Prall.\n\nhttp://www.womenforwomen.org/bridge/attend-bridge-event.php
X-ALT-DESC;FMTTYPE=text/html:MARCH 8th\, 2010 is International Women's Day! \n<br>"Join Us on the Bridge" on South Sixth Street by Veteran's Memorial Park.\n<br>Our local Club Soroptimist International of Beatrice\, Nebraska is\n<br>partnering with Women for Women International to host this event on March 8th\, 2010 from 5:30 TO 7:00 PM ON THE SOUTH 6TH STREET BRIDGE IN BEATRICE NEBRASKA. \n<br>\n<br>We invite you to join us. Our goal is to attract attention for the need for WORLD PEACE.  We will meet at the Veteran's Memorial Park just south of the bridge. Bring your sack lunch if you like. \n<br>\n<br>To register for this event click on the link below. If you have any questions\n<br>please contact Sharil Prall.\n<br>http://www.womenforwomen.org/bridge/attend-bridge-event.php\n<br>\n<br>
LOCATION:
UID:e.41.1668
SEQUENCE:3
DTSTAMP:20260425T153359Z
URL:https://business.beatricechamber.com/events/details/women-on-the-bridge-soroptimist-s-promoting-world-peace-03-08-2010-1668
END:VEVENT

END:VCALENDAR
