BEGIN:VCALENDAR
VERSION:2.0
PRODID:-//ChamberMaster//Event Calendar 2.0//EN
METHOD:PUBLISH
X-PUBLISHED-TTL:P3D
REFRESH-INTERVAL:P3D
CALSCALE:GREGORIAN
BEGIN:VEVENT
DTSTART;VALUE=DATE:20110118
DTEND;VALUE=DATE:20110119
TRANSP:TRANSPARENT
X-MICROSOFT-CDO-ALLDAYEVENT:TRUE
SUMMARY:Worker Training Grants & On the Job Training
DESCRIPTION:Nebraska Department of Labor\n\n\n\nInvites you to an informational session on employer training programs for existing employees and new hires\n\n\n\nWorker Training Grants - Grant funds to train existing employees.  Program will include tips on submitting a successful application\, how grants are scored\, and changes to the program\, including coverage for non-profits.\n\n\n\nOn the Job Training - Workforce Investment funds to help employers offset the cost of training new employees\, including 50% of wages during the training period and the cost of required coursework or classes the positions require.\n\n\n\nPlease plan to join us - Tuesday\, January 18\, 2011\n\n12 p.m. - 1 p.m.\n\n\n\nSoutheast Community College\, Adams Hall\n\nLunch provided\n\n\n\nRSVP by January 12\, 2011\n\n223-6060 or beatricewfd@nebraska.gov
X-ALT-DESC;FMTTYPE=text/html:Nebraska Department of Labor<br />\n<br />\nInvites you to an informational session on employer training programs for existing employees and new hires<br />\n<br />\nWorker Training Grants - Grant funds to train existing employees.&nbsp\; Program will include tips on submitting a successful application\, how grants are scored\, and changes to the program\, including coverage for non-profits.<br />\n<br />\nOn the Job Training - Workforce Investment funds to help employers offset the cost of training new employees\, including 50% of wages during the training period and the cost of required coursework or classes the positions require.<br />\n<br />\n<strong>Please plan to join us - Tuesday\, January 18\, 2011<br />\n12 p.m. - 1 p.m.<br />\n<br />\nSoutheast Community College\, Adams Hall<br />\nLunch provided<br />\n<br />\nRSVP by January 12\, 2011<br />\n223-6060 or <a href="mailto:beatricewfd@nebraska.gov">beatricewfd@nebraska.gov</a></strong>
LOCATION:
UID:e.41.3167
SEQUENCE:3
DTSTAMP:20260425T003419Z
URL:https://business.beatricechamber.com/events/details/worker-training-grants-on-the-job-training-01-18-2011-3167
END:VEVENT

END:VCALENDAR
