BEGIN:VCALENDAR
VERSION:2.0
PRODID:-//ChamberMaster//Event Calendar 2.0//EN
METHOD:PUBLISH
X-PUBLISHED-TTL:P3D
REFRESH-INTERVAL:P3D
CALSCALE:GREGORIAN
BEGIN:VEVENT
DTSTART;VALUE=DATE:20101105
DTEND;VALUE=DATE:20101106
TRANSP:TRANSPARENT
X-MICROSOFT-CDO-ALLDAYEVENT:TRUE
SUMMARY:World Community Day
DESCRIPTION:Church Women United celebrate  World Community Day:\n\n\n\n9:30 a.m.\, brunch\, Beatrice Menonite Church\, 1220 Summit St. Workshop at 10:15 a.m. Members recently voted to disband this chapter. This event is designed to celebrate the women who have served  the past 70 years by remmbering their achievements and service. Reservations appreciated\,\n\nBecky- 402-696-4439\, or Marjorie\, 228-2382\, by Nov. 1.
X-ALT-DESC;FMTTYPE=text/html:<strong><span style="font-size: 14px">Church Women United celebrate&nbsp\; World Community Day:</span></strong><br />\n<br />\n9:30 a.m.\, brunch\, Beatrice Menonite Church\, 1220 Summit St. Workshop at 10:15 a.m. Members recently voted to disband this chapter. This event is designed to celebrate the women who have served&nbsp\; the past 70 years by remmbering their achievements and service. Reservations appreciated\,<br />\nBecky- 402-696-4439\, or Marjorie\, 228-2382\, by Nov. 1.
LOCATION:
UID:e.41.2779
SEQUENCE:3
DTSTAMP:20260425T032432Z
URL:https://business.beatricechamber.com/events/details/world-community-day-11-05-2010-2779
END:VEVENT

END:VCALENDAR
