BEGIN:VCALENDAR
VERSION:2.0
PRODID:-//ChamberMaster//Event Calendar 2.0//EN
METHOD:PUBLISH
X-PUBLISHED-TTL:P3D
REFRESH-INTERVAL:P3D
CALSCALE:GREGORIAN
BEGIN:VEVENT
DTSTART;VALUE=DATE:20101106
DTEND;VALUE=DATE:20101107
TRANSP:TRANSPARENT
X-MICROSOFT-CDO-ALLDAYEVENT:TRUE
SUMMARY:World Sport Stacking Association Tournament
DESCRIPTION:Sanctioned world Sport Stacking Association Tournament:\n\n\n\nWhen: 10:00 a.m.- 2:00 p.m.\n\n\n\nWhere: Beatrice City Auditorium\n\n                205 N. 4th St.\n\n\n\n\n\nDoors open at 9:00 a.m.\, Check-in 9:30 a.m. Competitor registration fee $20. Spectator general admission: $2\; children ages two and younger\, free. Food concessions.\n\n\n\nProceeds to Nebraska Lutheran Campus Ministry SCC Beatrice campus.
X-ALT-DESC;FMTTYPE=text/html:<strong>Sanctioned world Sport Stacking Association Tournament:<br />\n<br />\nWhen: 10:00 a.m.- 2:00 p.m.<br />\n<br />\nWhere: Beatrice City Auditorium<br />\n&nbsp\;&nbsp\;&nbsp\;&nbsp\;&nbsp\;&nbsp\;&nbsp\;&nbsp\;&nbsp\;&nbsp\;&nbsp\;&nbsp\;&nbsp\;&nbsp\;&nbsp\;&nbsp\;205 N. 4th St.<br />\n<br />\n<br />\nDoors open at 9:00 a.m.\, Check-in 9:30 a.m. Competitor registration fee $20. Spectator general admission: $2\; children ages two and younger\, free. Food concessions.<br />\n<br />\nProceeds to Nebraska Lutheran Campus Ministry SCC Beatrice campus.</strong><br />\n
LOCATION:
UID:e.41.2785
SEQUENCE:3
DTSTAMP:20260425T032804Z
URL:https://business.beatricechamber.com/events/details/world-sport-stacking-association-tournament-11-06-2010-2785
END:VEVENT

END:VCALENDAR
