BEGIN:VCALENDAR
VERSION:2.0
PRODID:-//ChamberMaster//Event Calendar 2.0//EN
METHOD:PUBLISH
X-PUBLISHED-TTL:P3D
REFRESH-INTERVAL:P3D
CALSCALE:GREGORIAN
BEGIN:VEVENT
DTSTART:20120602T003000Z
DTEND:20120602T003000Z
X-MICROSOFT-CDO-ALLDAYEVENT:FALSE
SUMMARY:"Wrong Window"
DESCRIPTION:Beatrice Community Players\, 412 Ella St.\, Beatrice. A comedic nod to Hitchcock! Tickets: $15 adults\, $10 students. For tickets\, call 402-228-1801 noon to 5:30 p.m.  Monday-Friday or visit www.beatricecommunityplayers.com
X-ALT-DESC;FMTTYPE=text/html:Beatrice Community Players\,&nbsp\;412 Ella St.\, Beatrice. A comedic&nbsp\;nod to Hitchcock! Tickets: $15 adults\,&nbsp\;$10 students. For tickets\, call 402-228-1801 noon to&nbsp\;5:30 p.m.&nbsp\;&nbsp\;Monday-Friday or visit <a href="http://www.beatricecommunityplayers.com">www.beatricecommunityplayers.com</a>
LOCATION:
UID:e.41.5710
SEQUENCE:3
DTSTAMP:20260422T125831Z
URL:https://business.beatricechamber.com/events/details/wrong-window-06-01-2012-5710
END:VEVENT

END:VCALENDAR
