BEGIN:VCALENDAR
VERSION:2.0
PRODID:-//ChamberMaster//Event Calendar 2.0//EN
METHOD:PUBLISH
X-PUBLISHED-TTL:P3D
REFRESH-INTERVAL:P3D
CALSCALE:GREGORIAN
BEGIN:VEVENT
DTSTART:20120413T000000Z
DTEND:20120413T040000Z
X-MICROSOFT-CDO-ALLDAYEVENT:FALSE
SUMMARY:Wymore American Legion Bingo
DESCRIPTION:Chance to win $250 jackpot plus new $100 Early Bird
X-ALT-DESC;FMTTYPE=text/html:Chance to win $250 jackpot plus new $100 Early Bird
LOCATION:Wymore
UID:e.41.5445
SEQUENCE:3
DTSTAMP:20260422T155055Z
URL:https://business.beatricechamber.com/events/details/wymore-american-legion-bingo-04-12-2012-5445
END:VEVENT

END:VCALENDAR
