BEGIN:VCALENDAR
VERSION:2.0
PRODID:-//ChamberMaster//Event Calendar 2.0//EN
METHOD:PUBLISH
X-PUBLISHED-TTL:P3D
REFRESH-INTERVAL:P3D
CALSCALE:GREGORIAN
BEGIN:VEVENT
DTSTART;VALUE=DATE:20101111
DTEND;VALUE=DATE:20101112
TRANSP:TRANSPARENT
X-MICROSOFT-CDO-ALLDAYEVENT:TRUE
SUMMARY:Wymore American Legion Bingo
DESCRIPTION:Wymore American Legion Bingo\n\n\n\n7:30 p.m. Wymore\n\n\n\nChance to win $250 plus. New $100 Early Bird!
X-ALT-DESC;FMTTYPE=text/html:<span style="font-size: 14px"><strong>Wymore American Legion Bingo</strong></span><br />\n<br />\n7:30 p.m. Wymore<br />\n<br />\nChance to win $250 plus. New $100 Early Bird!
LOCATION:
UID:e.41.2727
SEQUENCE:3
DTSTAMP:20260425T032932Z
URL:https://business.beatricechamber.com/events/details/wymore-american-legion-bingo-11-11-2010-2727
END:VEVENT

END:VCALENDAR
