BEGIN:VCALENDAR
VERSION:2.0
PRODID:-//ChamberMaster//Event Calendar 2.0//EN
METHOD:PUBLISH
X-PUBLISHED-TTL:P3D
REFRESH-INTERVAL:P3D
CALSCALE:GREGORIAN
BEGIN:VEVENT
DTSTART;VALUE=DATE:20101125
DTEND;VALUE=DATE:20101126
TRANSP:TRANSPARENT
X-MICROSOFT-CDO-ALLDAYEVENT:TRUE
SUMMARY:Wymore American Legion Bingo
DESCRIPTION:Wymore American Legion Bingo\n\n\n\n7:30 p.m. Wymore\n\n\n\nChance to win jackpot of $250 plus. New $100 Early Bird.
X-ALT-DESC;FMTTYPE=text/html:<strong><span style="font-size: 14px">Wymore American Legion Bingo</span></strong><br />\n<br />\n7:30 p.m. Wymore<br />\n<br />\nChance to win jackpot of $250 plus. New $100 Early Bird.
LOCATION:
UID:e.41.2802
SEQUENCE:3
DTSTAMP:20260425T032834Z
URL:https://business.beatricechamber.com/events/details/wymore-american-legion-bingo-11-25-2010-2802
END:VEVENT

END:VCALENDAR
