BEGIN:VCALENDAR
VERSION:2.0
PRODID:-//ChamberMaster//Event Calendar 2.0//EN
METHOD:PUBLISH
X-PUBLISHED-TTL:P3D
REFRESH-INTERVAL:P3D
CALSCALE:GREGORIAN
BEGIN:VEVENT
DTSTART:20101119T160000Z
DTEND:20101119T170000Z
X-MICROSOFT-CDO-ALLDAYEVENT:FALSE
SUMMARY:Wymore Area Community Coffee
DESCRIPTION:Wymore Area Community Coffee: will be held from 10-11 a.m. \n\n\n\nFriday at the Pinecrest Tree Farm and holiday Store located at their shop at Highway 77 and Walnut Street in Blue Springs. The public is invited and everyone is welcome.\n\n\n\nThis event is sponsoreed by the Southern Gage Community Pride Group.
X-ALT-DESC;FMTTYPE=text/html:<strong>Wymore Area Community Coffee: will be held from 10-11 a.m. </strong><br />\n<br />\nFriday at the Pinecrest Tree Farm and holiday Store located at their shop at Highway 77 and Walnut Street in Blue Springs. The public is invited and everyone is welcome.<br />\n<br />\nThis event is sponsoreed by the Southern Gage Community Pride Group.<br />\n
LOCATION:
UID:e.41.2837
SEQUENCE:3
DTSTAMP:20260425T032647Z
URL:https://business.beatricechamber.com/events/details/wymore-area-community-coffee-11-19-2010-2837
END:VEVENT

END:VCALENDAR
