BEGIN:VCALENDAR
VERSION:2.0
PRODID:-//ChamberMaster//Event Calendar 2.0//EN
METHOD:PUBLISH
X-PUBLISHED-TTL:P3D
REFRESH-INTERVAL:P3D
CALSCALE:GREGORIAN
BEGIN:VEVENT
DTSTART;VALUE=DATE:20110327
DTEND;VALUE=DATE:20110328
TRANSP:TRANSPARENT
X-MICROSOFT-CDO-ALLDAYEVENT:TRUE
SUMMARY:Wymore Baseball BBQ
DESCRIPTION:Wymore Baseball BBQ\n\n\n\nSunday\, March 27\n\n11 am- 1 pm\n\n\n\nWymore Legion Club\n\n\n\nThe cost of the meal is $8 per person donation.  Carry-out meals will be available in the south alley\, and baseball season tickets will be sold.
X-ALT-DESC;FMTTYPE=text/html:Wymore Baseball BBQ<br />\n<br />\nSunday\, March 27<br />\n11 am- 1 pm<br />\n<br />\nWymore Legion Club<br />\n<br />\nThe cost of the meal is $8 per person donation.&nbsp\; Carry-out meals will be available in the south alley\, and baseball season tickets will be sold.
LOCATION:
UID:e.41.4261
SEQUENCE:3
DTSTAMP:20260424T211652Z
URL:https://business.beatricechamber.com/events/details/wymore-baseball-bbq-03-27-2011-4261
END:VEVENT

END:VCALENDAR
