BEGIN:VCALENDAR
VERSION:2.0
PRODID:-//ChamberMaster//Event Calendar 2.0//EN
METHOD:PUBLISH
X-PUBLISHED-TTL:P3D
REFRESH-INTERVAL:P3D
CALSCALE:GREGORIAN
BEGIN:VEVENT
DTSTART;VALUE=DATE:20120704
DTEND;VALUE=DATE:20120705
TRANSP:TRANSPARENT
X-MICROSOFT-CDO-ALLDAYEVENT:TRUE
SUMMARY:Wymore Chicken BBQ
DESCRIPTION:Wymore Sons of the American Legion Chicken BBQ\n\n\n\n11 am\n\nWymore American Legion Club\n\nVan's Chicken BBQ\n\n$8 per meal\n\n\n\nDine-in or Carry-out/drive-through in the alley behind the legion. \n\nHosted by Sons of the Wymore American Legion
X-ALT-DESC;FMTTYPE=text/html:Wymore Sons of the American Legion Chicken BBQ<br />\n<br />\n11 am<br />\nWymore American Legion Club<br />\nVan&#39\;s Chicken BBQ<br />\n$8 per meal<br />\n<br />\nDine-in or Carry-out/drive-through in the alley behind the legion.&nbsp\;<br />\nHosted by Sons of the Wymore American Legion
LOCATION:
UID:e.41.5945
SEQUENCE:3
DTSTAMP:20260422T113618Z
URL:https://business.beatricechamber.com/events/details/wymore-chicken-bbq-07-04-2012-5945
END:VEVENT

END:VCALENDAR
