BEGIN:VCALENDAR
VERSION:2.0
PRODID:-//ChamberMaster//Event Calendar 2.0//EN
METHOD:PUBLISH
X-PUBLISHED-TTL:P3D
REFRESH-INTERVAL:P3D
CALSCALE:GREGORIAN
BEGIN:VEVENT
DTSTART;VALUE=DATE:20100501
DTEND;VALUE=DATE:20100502
TRANSP:TRANSPARENT
X-MICROSOFT-CDO-ALLDAYEVENT:TRUE
SUMMARY:Wymore Citywide Garage Sales 5/1/2010
DESCRIPTION:Wymore Citywide Garage Sale Saturday\, May 1\, 2010Starting at 8 a.m. maps will be available.
X-ALT-DESC;FMTTYPE=text/html:<div><span style="font-size: medium">Wymore Citywide Garage Sale</span></div><div>&nbsp\;</div><div><span style="font-size: medium">Saturday\, May 1\, 2010</span></div><div><span style="font-size: medium">Starting at 8 a.m. maps will be available.</span></div>
LOCATION:
UID:e.41.1958
SEQUENCE:3
DTSTAMP:20260425T123352Z
URL:https://business.beatricechamber.com/events/details/wymore-citywide-garage-sales-5-1-2010-05-01-2010-1958
END:VEVENT

END:VCALENDAR
