BEGIN:VCALENDAR
VERSION:2.0
PRODID:-//ChamberMaster//Event Calendar 2.0//EN
METHOD:PUBLISH
X-PUBLISHED-TTL:P3D
REFRESH-INTERVAL:P3D
CALSCALE:GREGORIAN
BEGIN:VEVENT
DTSTART;VALUE=DATE:20120706
DTEND;VALUE=DATE:20120707
TRANSP:TRANSPARENT
X-MICROSOFT-CDO-ALLDAYEVENT:TRUE
SUMMARY:Wymore Community Coffee
DESCRIPTION:Community Coffee\n\n\n\nWymore Good Samaritan Center\, 105 East D Street\n\n10 am\n\n\n\nPublic Invited\n\n\n\nSponsored by Gage County Community Pride Group
X-ALT-DESC;FMTTYPE=text/html:Community Coffee<br />\n<br />\nWymore Good Samaritan Center\, 105 East D Street<br />\n10 am<br />\n<br />\nPublic Invited<br />\n<br />\nSponsored by Gage County Community Pride Group
LOCATION:
UID:e.41.5739
SEQUENCE:3
DTSTAMP:20260422T113654Z
URL:https://business.beatricechamber.com/events/details/wymore-community-coffee-07-06-2012-5739
END:VEVENT

END:VCALENDAR
