BEGIN:VCALENDAR
VERSION:2.0
PRODID:-//ChamberMaster//Event Calendar 2.0//EN
METHOD:PUBLISH
X-PUBLISHED-TTL:P3D
REFRESH-INTERVAL:P3D
CALSCALE:GREGORIAN
BEGIN:VEVENT
DTSTART;VALUE=DATE:20120713
DTEND;VALUE=DATE:20120714
TRANSP:TRANSPARENT
X-MICROSOFT-CDO-ALLDAYEVENT:TRUE
SUMMARY:Wymore Community Coffee
DESCRIPTION:Community Coffee\n\n\n\nWymore Housing Authority\, Park Lodge Meeting Room\, 300 N 7th St\n\n10 am\n\n\n\nPublic Invited\n\n\n\nSponsored by Gage County Community Pride Group
X-ALT-DESC;FMTTYPE=text/html:Community Coffee<br />\n<br />\nWymore Housing Authority\, Park Lodge Meeting Room\,&nbsp\;300 N 7th St<br />\n10 am<br />\n<br />\nPublic Invited<br />\n<br />\nSponsored by Gage County Community Pride Group
LOCATION:
UID:e.41.5740
SEQUENCE:3
DTSTAMP:20260422T113726Z
URL:https://business.beatricechamber.com/events/details/wymore-community-coffee-07-13-2012-5740
END:VEVENT

END:VCALENDAR
