BEGIN:VCALENDAR
VERSION:2.0
PRODID:-//ChamberMaster//Event Calendar 2.0//EN
METHOD:PUBLISH
X-PUBLISHED-TTL:P3D
REFRESH-INTERVAL:P3D
CALSCALE:GREGORIAN
BEGIN:VEVENT
DTSTART;VALUE=DATE:20110826
DTEND;VALUE=DATE:20110827
TRANSP:TRANSPARENT
X-MICROSOFT-CDO-ALLDAYEVENT:TRUE
SUMMARY:Wymore Community Coffee
DESCRIPTION:10 a.m. at the Wymore Senior Center\, American Legion Post\, 815 West D. St.\, Wymore.
X-ALT-DESC;FMTTYPE=text/html:10 a.m. at the Wymore Senior Center\, American Legion Post\, 815 West D. St.\, Wymore.
LOCATION:
UID:e.41.5067
SEQUENCE:3
DTSTAMP:20260424T134429Z
URL:https://business.beatricechamber.com/events/details/wymore-community-coffee-08-26-2011-5067
END:VEVENT

END:VCALENDAR
