BEGIN:VCALENDAR
VERSION:2.0
PRODID:-//ChamberMaster//Event Calendar 2.0//EN
METHOD:PUBLISH
X-PUBLISHED-TTL:P3D
REFRESH-INTERVAL:P3D
CALSCALE:GREGORIAN
BEGIN:VEVENT
DTSTART;VALUE=DATE:20110909
DTEND;VALUE=DATE:20110910
TRANSP:TRANSPARENT
X-MICROSOFT-CDO-ALLDAYEVENT:TRUE
SUMMARY:Wymore Community Coffee
DESCRIPTION:Wymore Community Coffee\n\nFriday\, September 9\n\n\n\n10 am\n\n\n\nHosted by Karen and Morris Lovell\, owners of D&M Motel\n\n605 S 14th Street\n\nWymore\, NE  68466
X-ALT-DESC;FMTTYPE=text/html:Wymore Community Coffee<br />\nFriday\, September 9<br />\n<br />\n10 am<br />\n<br />\nHosted by Karen and Morris Lovell\, owners of D&amp\;M Motel<br />\n605 S 14th Street<br />\nWymore\, NE&nbsp\; 68466
LOCATION:
UID:e.41.5097
SEQUENCE:3
DTSTAMP:20260424T122946Z
URL:https://business.beatricechamber.com/events/details/wymore-community-coffee-09-09-2011-5097
END:VEVENT

END:VCALENDAR
