BEGIN:VCALENDAR
VERSION:2.0
PRODID:-//ChamberMaster//Event Calendar 2.0//EN
METHOD:PUBLISH
X-PUBLISHED-TTL:P3D
REFRESH-INTERVAL:P3D
CALSCALE:GREGORIAN
BEGIN:VEVENT
DTSTART;VALUE=DATE:20111111
DTEND;VALUE=DATE:20111112
TRANSP:TRANSPARENT
X-MICROSOFT-CDO-ALLDAYEVENT:TRUE
SUMMARY:Wymore Community Coffee
DESCRIPTION:Southern Gage Community Pride Group community coffee\n\n\n\nFriday\, November 11\n\n10 am\n\n\n\nSouthern High School\, 115 S 11th Street\, Wymore\n\n\n\nIn observance of Veterans Days.  Veterans Day program follows at 11 am in the school auditorium.
X-ALT-DESC;FMTTYPE=text/html:Southern Gage Community Pride Group community coffee<br />\n<br />\nFriday\, November 11<br />\n10 am<br />\n<br />\nSouthern High School\, 115 S 11th Street\, Wymore<br />\n<br />\nIn observance of Veterans Days.&nbsp\; Veterans Day program follows at 11 am in the school auditorium.
LOCATION:
UID:e.41.5234
SEQUENCE:3
DTSTAMP:20260424T095951Z
URL:https://business.beatricechamber.com/events/details/wymore-community-coffee-11-11-2011-5234
END:VEVENT

END:VCALENDAR
