BEGIN:VCALENDAR
VERSION:2.0
PRODID:-//ChamberMaster//Event Calendar 2.0//EN
METHOD:PUBLISH
X-PUBLISHED-TTL:P3D
REFRESH-INTERVAL:P3D
CALSCALE:GREGORIAN
BEGIN:VEVENT
DTSTART:20110705T220000Z
DTEND:20110706T000000Z
X-MICROSOFT-CDO-ALLDAYEVENT:FALSE
SUMMARY:Wymore Farmer's Market at McCandles Park
DESCRIPTION:Market hours are from 5-7 p.m. at McCandles Park alongside of Hwy 77.\n\n\n\nProduce\, eggs\, baked goods\, candles\, books and craft items are acceptable vendor items.  Vendors are being encouraged to participate in the Wymore Farmers Market.  Music will be provided by Good News Band.  The event is sponsored by Southern Gage Community Pride Group.\n\n\n\nFor more information contact Thelma Ball or W. Anderson at 402-645-5735.
X-ALT-DESC;FMTTYPE=text/html:Market hours are from 5-7 p.m. at McCandles Park alongside of Hwy 77.<br />\n<br />\nProduce\, eggs\, baked goods\, candles\, books and craft items are acceptable vendor items.&nbsp\; Vendors are being encouraged to participate in the Wymore Farmers Market.&nbsp\; Music will be provided by Good News Band.&nbsp\; The event is sponsored by Southern Gage Community Pride Group.<br />\n<br />\nFor more information contact Thelma Ball or W. Anderson at 402-645-5735.
LOCATION:
UID:e.41.4926
SEQUENCE:3
DTSTAMP:20260424T153458Z
URL:https://business.beatricechamber.com/events/details/wymore-farmer-s-market-at-mccandles-park-07-05-2011-4926
END:VEVENT

END:VCALENDAR
