BEGIN:VCALENDAR
VERSION:2.0
PRODID:-//ChamberMaster//Event Calendar 2.0//EN
METHOD:PUBLISH
X-PUBLISHED-TTL:P3D
REFRESH-INTERVAL:P3D
CALSCALE:GREGORIAN
BEGIN:VEVENT
DTSTART:20110719T220000Z
DTEND:20110720T000000Z
X-MICROSOFT-CDO-ALLDAYEVENT:FALSE
SUMMARY:Wymore Farmers' Market
DESCRIPTION:Wymore Farmers' Market is in McCandless Park alongside of Highway 77.  Produce\, eggs\, baked goods\, canned goods\, candles\, books\, and craft items are acceptable vendor items for the market.  Vendors are welcome and encouraged to participate in the market.\n\n	\n\n	For more information\, contact Thelma Ball or W. Anderson at 402-645-5735.
X-ALT-DESC;FMTTYPE=text/html:<p>\n	Wymore Farmers&#39\; Market is in McCandless Park alongside of Highway 77.&nbsp\; Produce\, eggs\, baked goods\, canned goods\, candles\, books\, and craft items are acceptable vendor items for the market.&nbsp\; Vendors are welcome and encouraged to participate in the market.<br />\n	<br />\n	For more information\, contact Thelma Ball or W. Anderson at 402-645-5735.</p>\n
LOCATION:
UID:e.41.4976
SEQUENCE:3
DTSTAMP:20260424T153336Z
URL:https://business.beatricechamber.com/events/details/wymore-farmers-market-07-19-2011-4976
END:VEVENT

END:VCALENDAR
