BEGIN:VCALENDAR
VERSION:2.0
PRODID:-//ChamberMaster//Event Calendar 2.0//EN
METHOD:PUBLISH
X-PUBLISHED-TTL:P3D
REFRESH-INTERVAL:P3D
CALSCALE:GREGORIAN
BEGIN:VEVENT
DTSTART:20110726T220000Z
DTEND:20110727T000000Z
X-MICROSOFT-CDO-ALLDAYEVENT:FALSE
SUMMARY:Wymore Farmers Market
DESCRIPTION:Wymore Farmers Market will being from 5-7 p.m. on Tuesday\, July 26 in McCandless Park alongside Highway 77.  Produce\, eggs\, baked goods\, candles\, books\, and craft items are acceptable vendor items for the market.  The event is sponsored by Southern Gage Community Pride Group. \n\n\n\nFor more information\, contact Thelma Ball or W. Anderson at 402-645-5735.  Vendors are welcome and are encrouraged to participate in the market.
X-ALT-DESC;FMTTYPE=text/html:Wymore Farmers Market will being from 5-7 p.m. on Tuesday\, July 26 in McCandless Park alongside Highway 77.&nbsp\; Produce\, eggs\, baked goods\, candles\, books\, and craft items are acceptable vendor items for the market.&nbsp\; The event is sponsored by Southern Gage Community Pride Group.&nbsp\;<br />\n<br />\nFor more information\, contact Thelma Ball or W. Anderson at 402-645-5735.&nbsp\; Vendors are welcome and are encrouraged to participate in the market.
LOCATION:
UID:e.41.4983
SEQUENCE:3
DTSTAMP:20260424T153432Z
URL:https://business.beatricechamber.com/events/details/wymore-farmers-market-07-26-2011-4983
END:VEVENT

END:VCALENDAR
