BEGIN:VCALENDAR
VERSION:2.0
PRODID:-//ChamberMaster//Event Calendar 2.0//EN
METHOD:PUBLISH
X-PUBLISHED-TTL:P3D
REFRESH-INTERVAL:P3D
CALSCALE:GREGORIAN
BEGIN:VEVENT
DTSTART:20110802T220000Z
DTEND:20110803T000000Z
X-MICROSOFT-CDO-ALLDAYEVENT:FALSE
SUMMARY:Wymore Farmers Market
DESCRIPTION:5-7 p.m.\, McCandless Park alongisde Highway 77 in Wymore.  Produce\, eggs\, baked goods\, candles\, books and craft items accepted.\n\n\n\nFor more information\, call Thelma Ball or W. Anderson at 402-645-5735.
X-ALT-DESC;FMTTYPE=text/html:5-7 p.m.\, McCandless Park alongisde Highway 77 in Wymore.&nbsp\; Produce\, eggs\, baked goods\, candles\, books and craft items accepted.<br />\n<br />\nFor more information\, call Thelma Ball or W. Anderson at 402-645-5735.
LOCATION:
UID:e.41.5017
SEQUENCE:3
DTSTAMP:20260424T140642Z
URL:https://business.beatricechamber.com/events/details/wymore-farmers-market-08-02-2011-5017
END:VEVENT

END:VCALENDAR
