BEGIN:VCALENDAR
VERSION:2.0
PRODID:-//ChamberMaster//Event Calendar 2.0//EN
METHOD:PUBLISH
X-PUBLISHED-TTL:P3D
REFRESH-INTERVAL:P3D
CALSCALE:GREGORIAN
BEGIN:VEVENT
DTSTART:20110823T220000Z
DTEND:20110824T000000Z
X-MICROSOFT-CDO-ALLDAYEVENT:FALSE
SUMMARY:Wymore Farmers Market
DESCRIPTION:5-7 p.m.\, McCandless Park alongside Highway 77 in Wymore.  Produce\, baked goods\, eggs\, candles\, books and craft items are acceptable.\n\n\n\nFor more information\, contact Thelma Ball or W. Anderson at 402-645-5735.
X-ALT-DESC;FMTTYPE=text/html:5-7 p.m.\, McCandless Park alongside Highway 77 in Wymore.&nbsp\; Produce\, baked goods\, eggs\, candles\, books and craft items are acceptable.<br />\n<br />\nFor more information\, contact Thelma Ball or W. Anderson at 402-645-5735.
LOCATION:
UID:e.41.5065
SEQUENCE:3
DTSTAMP:20260424T135831Z
URL:https://business.beatricechamber.com/events/details/wymore-farmers-market-08-23-2011-5065
END:VEVENT

END:VCALENDAR
