BEGIN:VCALENDAR
VERSION:2.0
PRODID:-//ChamberMaster//Event Calendar 2.0//EN
METHOD:PUBLISH
X-PUBLISHED-TTL:P3D
REFRESH-INTERVAL:P3D
CALSCALE:GREGORIAN
BEGIN:VEVENT
DTSTART:20120828T220000Z
DTEND:20120829T000000Z
X-MICROSOFT-CDO-ALLDAYEVENT:FALSE
SUMMARY:Wymore Farmers Market final event of the season
DESCRIPTION:Wymore Farmers Market final event of the season!
X-ALT-DESC;FMTTYPE=text/html:Wymore Farmers Market final event of the season!
LOCATION:McCandles Park along Highway 77 in Wymore. Thelma Ball or Wayne Anderson\, 402-645-5735
UID:e.41.6613
SEQUENCE:3
DTSTAMP:20260422T101125Z
URL:https://business.beatricechamber.com/events/details/wymore-farmers-market-final-event-of-the-season-08-28-2012-6613
END:VEVENT

END:VCALENDAR
