BEGIN:VCALENDAR
VERSION:2.0
PRODID:-//ChamberMaster//Event Calendar 2.0//EN
METHOD:PUBLISH
X-PUBLISHED-TTL:P3D
REFRESH-INTERVAL:P3D
CALSCALE:GREGORIAN
BEGIN:VEVENT
DTSTART:20120513T160000Z
DTEND:20120513T180000Z
X-MICROSOFT-CDO-ALLDAYEVENT:FALSE
SUMMARY:Wymore hosting Mother's Day meal
DESCRIPTION:Wymore American Legion members are hosting their annual Mother's Day Buffet on Sunday\, May 13.\n\nRoast beef\, turkey\, ham and all the trimmings will be served from 11 a.m. to 1 p.m. Donation prices are $8.50 for adults and $5 for children younger than 12.
X-ALT-DESC;FMTTYPE=text/html:Wymore American Legion members are hosting&nbsp\;their annual&nbsp\;Mother&#39\;s Day Buffet on Sunday\,&nbsp\;May 13.<br />\nRoast&nbsp\;beef\,&nbsp\;turkey\, ham and all the trimmings will be served&nbsp\;from 11 a.m. to&nbsp\;1 p.m. Donation&nbsp\;prices are&nbsp\;$8.50 for adults&nbsp\;and $5 for children younger than 12.
LOCATION:
UID:e.41.5501
SEQUENCE:3
DTSTAMP:20260422T142730Z
URL:https://business.beatricechamber.com/events/details/wymore-hosting-mother-s-day-meal-05-13-2012-5501
END:VEVENT

END:VCALENDAR
