BEGIN:VCALENDAR
VERSION:2.0
PRODID:-//ChamberMaster//Event Calendar 2.0//EN
METHOD:PUBLISH
X-PUBLISHED-TTL:P3D
REFRESH-INTERVAL:P3D
CALSCALE:GREGORIAN
BEGIN:VEVENT
DTSTART;VALUE=DATE:20101119
DTEND;VALUE=DATE:20101120
TRANSP:TRANSPARENT
X-MICROSOFT-CDO-ALLDAYEVENT:TRUE
SUMMARY:Wymore Mixed Stag
DESCRIPTION:Wymore Mixed Stag:\n\n\n\nBegins at 5:30 p.m. Friday at the American Legion. all you can eat of fish fry and ham. Cost is $8 per person. Sponsored by the Sons of the American Legion.
X-ALT-DESC;FMTTYPE=text/html:<strong><span style="font-size: 14px">Wymore Mixed Stag:</span></strong><br />\n<br />\nBegins at 5:30 p.m. Friday at the American Legion. all you can eat of fish fry and ham. Cost is $8 per person. Sponsored by the Sons of the American Legion.
LOCATION:
UID:e.41.2836
SEQUENCE:3
DTSTAMP:20260425T032505Z
URL:https://business.beatricechamber.com/events/details/wymore-mixed-stag-11-19-2010-2836
END:VEVENT

END:VCALENDAR
