BEGIN:VCALENDAR
VERSION:2.0
PRODID:-//ChamberMaster//Event Calendar 2.0//EN
METHOD:PUBLISH
X-PUBLISHED-TTL:P3D
REFRESH-INTERVAL:P3D
CALSCALE:GREGORIAN
BEGIN:VEVENT
DTSTART;VALUE=DATE:20110508
DTEND;VALUE=DATE:20110509
TRANSP:TRANSPARENT
X-MICROSOFT-CDO-ALLDAYEVENT:TRUE
SUMMARY:Wymore Mother's Day Buffet
DESCRIPTION:The Wymore American Legion will host a Mother's Day buffet from 11 a.m. -1 p.m. May 8 at the Legion Club. The cost is $8 per person.
X-ALT-DESC;FMTTYPE=text/html:The Wymore American Legion will host a Mother&#39\;s Day buffet from 11 a.m. -1 p.m. May 8 at the Legion Club. The cost is $8&nbsp\;per person. 
LOCATION:
UID:e.41.4622
SEQUENCE:3
DTSTAMP:20260424T183034Z
URL:https://business.beatricechamber.com/events/details/wymore-mother-s-day-buffet-05-08-2011-4622
END:VEVENT

END:VCALENDAR
