BEGIN:VCALENDAR
VERSION:2.0
PRODID:-//ChamberMaster//Event Calendar 2.0//EN
METHOD:PUBLISH
X-PUBLISHED-TTL:P3D
REFRESH-INTERVAL:P3D
CALSCALE:GREGORIAN
BEGIN:VEVENT
DTSTART:20110717T210000Z
DTEND:20110717T233000Z
X-MICROSOFT-CDO-ALLDAYEVENT:FALSE
SUMMARY:Wymore Presbyterian Church Annual Ice Cream Social
DESCRIPTION:Wymore Presbyterian Church Annual Ice Cream Social: 4-6:30 p.m.\, 517 N. 12th St.  Homemade ice cream\, pies\, and cakes\; freewill offering.
X-ALT-DESC;FMTTYPE=text/html:<p>\n	Wymore Presbyterian Church Annual Ice Cream Social: 4-6:30 p.m.\, 517 N. 12th St.&nbsp\; Homemade ice cream\, pies\, and cakes\; freewill offering.</p>\n
LOCATION:
UID:e.41.4965
SEQUENCE:3
DTSTAMP:20260424T153711Z
URL:https://business.beatricechamber.com/events/details/wymore-presbyterian-church-annual-ice-cream-social-07-17-2011-4965
END:VEVENT

END:VCALENDAR
