BEGIN:VCALENDAR
VERSION:2.0
PRODID:-//ChamberMaster//Event Calendar 2.0//EN
METHOD:PUBLISH
X-PUBLISHED-TTL:P3D
REFRESH-INTERVAL:P3D
CALSCALE:GREGORIAN
BEGIN:VEVENT
DTSTART:20120713T213000Z
DTEND:20120714T000000Z
X-MICROSOFT-CDO-ALLDAYEVENT:FALSE
SUMMARY:Wymore Presbyterian Church Ice Cream Social
DESCRIPTION:At 517 N. 12th St.\, Wymore. Homemade ice cream\, pies\, desserts and cakes\; freewill offering.
X-ALT-DESC;FMTTYPE=text/html:At 517 N. 12th St.\, Wymore. Homemade ice cream\, pies\, desserts and cakes\; freewill offering.
LOCATION:
UID:e.41.6322
SEQUENCE:3
DTSTAMP:20260422T114319Z
URL:https://business.beatricechamber.com/events/details/wymore-presbyterian-church-ice-cream-social-07-13-2012-6322
END:VEVENT

END:VCALENDAR
