BEGIN:VCALENDAR
VERSION:2.0
PRODID:-//ChamberMaster//Event Calendar 2.0//EN
METHOD:PUBLISH
X-PUBLISHED-TTL:P3D
REFRESH-INTERVAL:P3D
CALSCALE:GREGORIAN
BEGIN:VEVENT
DTSTART:20120526T223000Z
DTEND:20120527T013000Z
X-MICROSOFT-CDO-ALLDAYEVENT:FALSE
SUMMARY:Wymore-Southern Alumni Banquet
DESCRIPTION:The 91st Wymore-Southern Alumni Banquet will be held on Saturday\, May 26\, in the Southern High School gymnasium. There is social time between 5:30 p.m. - 6:30 p.m. The meal will be served at 6:30 p.m. and is being catered by Ricky's Cafe.\n\nTickets are $10 per person. Reservations along with remittance should be sent to Secretary-Treasurer Lois Milburn\, 720 S. 12th\, Wymore\, NE 68466.\n\nNO tickets will be sold at the door.\n\nThe event will conclude at about 8:30 p.m.
X-ALT-DESC;FMTTYPE=text/html:The 91st Wymore-Southern&nbsp\;Alumni Banquet&nbsp\;will&nbsp\;be held on Saturday\, May 26\, in the Southern High&nbsp\;School gymnasium. There is social time&nbsp\;between 5:30 p.m.&nbsp\;- 6:30 p.m. The meal&nbsp\;will be served&nbsp\;at 6:30 p.m.&nbsp\;and is being catered by Ricky&#39\;s Cafe.<br />\nTickets are&nbsp\;$10 per&nbsp\;person.&nbsp\;Reservations&nbsp\;along with&nbsp\;remittance&nbsp\;should be sent to&nbsp\;Secretary-Treasurer Lois Milburn\,&nbsp\;720 S.&nbsp\;12th\, Wymore\, NE 68466.<br />\nNO tickets&nbsp\;will be sold at&nbsp\;the door.<br />\nThe event will&nbsp\;conclude at about&nbsp\;8:30 p.m.
LOCATION:
UID:e.41.5702
SEQUENCE:3
DTSTAMP:20260422T142630Z
URL:https://business.beatricechamber.com/events/details/wymore-southern-alumni-banquet-05-26-2012-5702
END:VEVENT

END:VCALENDAR
