BEGIN:VCALENDAR
VERSION:2.0
PRODID:-//ChamberMaster//Event Calendar 2.0//EN
METHOD:PUBLISH
X-PUBLISHED-TTL:P3D
REFRESH-INTERVAL:P3D
CALSCALE:GREGORIAN
BEGIN:VEVENT
DTSTART;VALUE=DATE:20110528
DTEND;VALUE=DATE:20110529
TRANSP:TRANSPARENT
X-MICROSOFT-CDO-ALLDAYEVENT:TRUE
SUMMARY:Wymore-Southern Alumni Banquet
DESCRIPTION:90th Annual Wymore-Southern Alumni Banquet\n\n	\n\n	Saturday\, May 28\n\n	Southern High School gym\n\n	\n\n	Meal catered by Ricky's Cafe of Hanover\, Kan.\n\n	\n\n	Banquet begins at 6:30 pm.  No tickets will be sold at the door and the remittance ($10 per person) must be received along with reservations by May 24.\n\n	 \n\n	The program for the evening includes Lonn Pressnall\, class of 1961\, who will present about President Abraham Lincoln.  Also on the program will be a duet by Vonda Spargur Roberts and Al Keck (both class of 1946).  The will sing "Because He Lives."\n\n	\n\n	For more information about reservations\, call Lois Milburn at 402-645-3525 (work) or 402-645-3528 (home after 5 pm) or email dmilburn@hotmail.com.
X-ALT-DESC;FMTTYPE=text/html:<p>\n	90th Annual Wymore-Southern Alumni Banquet<br />\n	<br />\n	Saturday\, May 28<br />\n	Southern High School gym<br />\n	<br />\n	Meal catered by Ricky&#39\;s Cafe of Hanover\, Kan.<br />\n	<br />\n	Banquet begins at 6:30 pm.&nbsp\; No tickets will be sold at the door and the remittance ($10 per person) must be received along with reservations by May 24.<br />\n	&nbsp\;</p>\n<p>\n	The program for the evening includes Lonn Pressnall\, class of 1961\, who will present about President Abraham Lincoln.&nbsp\; Also on the program will be a duet by Vonda Spargur Roberts and Al Keck (both class of 1946).&nbsp\; The will sing &quot\;Because He Lives.&quot\;<br />\n	<br />\n	For more information about reservations\, call Lois Milburn at 402-645-3525 (work) or 402-645-3528 (home after 5 pm) or email <a href="mailto:dmilburn@hotmail.com">dmilburn@hotmail.com</a>.</p>\n
LOCATION:
UID:e.41.4834
SEQUENCE:3
DTSTAMP:20260424T183127Z
URL:https://business.beatricechamber.com/events/details/wymore-southern-alumni-banquet-05-28-2011-4834
END:VEVENT

END:VCALENDAR
