BEGIN:VCALENDAR
VERSION:2.0
PRODID:-//ChamberMaster//Event Calendar 2.0//EN
METHOD:PUBLISH
X-PUBLISHED-TTL:P3D
REFRESH-INTERVAL:P3D
CALSCALE:GREGORIAN
BEGIN:VEVENT
DTSTART:20110206T170000Z
DTEND:20110206T190000Z
X-MICROSOFT-CDO-ALLDAYEVENT:FALSE
SUMMARY:Wymore Super Bowl Sunday Soup Dinner
DESCRIPTION:Wymore Super Bowl Sunday Soup Dinner\n\n\n\nSunday\, February 6\n\n11 a.m. - 1 p.m.\n\n\n\nPresbyterian Church\n\n517 N 12th St\n\nWymore\n\n\n\nChili & potato soups\, homemade pies and desserts.\n\nFreewill Offering
X-ALT-DESC;FMTTYPE=text/html:Wymore Super Bowl Sunday Soup Dinner<br />\n<br />\nSunday\, February 6<br />\n11 a.m. - 1 p.m.<br />\n<br />\nPresbyterian Church<br />\n517 N 12th St<br />\nWymore<br />\n<br />\nChili &amp\; potato soups\, homemade pies and desserts.<br />\nFreewill Offering
LOCATION:
UID:e.41.3296
SEQUENCE:3
DTSTAMP:20260424T225754Z
URL:https://business.beatricechamber.com/events/details/wymore-super-bowl-sunday-soup-dinner-02-06-2011-3296
END:VEVENT

END:VCALENDAR
