BEGIN:VCALENDAR
VERSION:2.0
PRODID:-//ChamberMaster//Event Calendar 2.0//EN
METHOD:PUBLISH
X-PUBLISHED-TTL:P3D
REFRESH-INTERVAL:P3D
CALSCALE:GREGORIAN
BEGIN:VEVENT
DTSTART;VALUE=DATE:20090810
DTEND;VALUE=DATE:20090811
TRANSP:TRANSPARENT
X-MICROSOFT-CDO-ALLDAYEVENT:TRUE
SUMMARY:YMCA Flag Football Registration August 2-28
DESCRIPTION:YMCA Fall Flag Football Registration August 2-28Beatrice Mary Family YMCA Ages:  5-17 as of July 31\, 2009Age Divisions:  5-6\, 7-8\, 9-10\, 11-14Practices:  Begin September 7Season Schedule:  Saturday Games September 19 - October 24Games and practices are at Beatrice YMCA athletic fields Fees:  $35 YMCA Members$48 for Non-membersLate Registration after August 28\, $10 late fee appliesRegistration Forms available at the YMCA Coaches Meeting:  Tuesday\, September 1 at 7:00 pm at the YMCA
X-ALT-DESC;FMTTYPE=text/html:<div><strong>YMCA Fall Flag Football Registration August 2-28</strong></div><div>Beatrice Mary Family&nbsp\;YMCA</div><div>&nbsp\;</div><div>Ages:&nbsp\; 5-17 as of July 31\, 2009</div><div>Age Divisions:&nbsp\; 5-6\, 7-8\, 9-10\, 11-14</div><div>Practices:&nbsp\; Begin September 7</div><div>Season Schedule:&nbsp\; Saturday Games September 19 - October 24</div><div>Games and practices are at Beatrice YMCA&nbsp\;athletic fields</div><div>&nbsp\;</div><div>Fees:&nbsp\; $35 YMCA&nbsp\;Members</div><div>$48 for Non-members</div><div>Late Registration after August 28\, $10 late fee applies</div><div>Registration Forms available at the YMCA</div><div>&nbsp\;</div><div>Coaches Meeting:&nbsp\; Tuesday\,&nbsp\;September 1 at 7:00 pm at the YMCA</div><div>&nbsp\;</div>
LOCATION:
UID:e.41.1339
SEQUENCE:3
DTSTAMP:20260426T012129Z
URL:https://business.beatricechamber.com/events/details/ymca-flag-football-registration-august-2-28-08-10-2009-1339
END:VEVENT

END:VCALENDAR
