BEGIN:VCALENDAR
VERSION:2.0
PRODID:-//ChamberMaster//Event Calendar 2.0//EN
METHOD:PUBLISH
X-PUBLISHED-TTL:P3D
REFRESH-INTERVAL:P3D
CALSCALE:GREGORIAN
BEGIN:VEVENT
DTSTART;VALUE=DATE:20110402
DTEND;VALUE=DATE:20110403
TRANSP:TRANSPARENT
X-MICROSOFT-CDO-ALLDAYEVENT:TRUE
SUMMARY:YMCA Healthy Kids Day
DESCRIPTION:YMCA Healthy Kids Day\n\n					\n\n					Saturday\, April 2\n\n					10 am - 12 pm\n\n					\n\n					1 mile Fun Run at 9:15!\n\n					\n\n					Make it a play date! Beatrice Family Chiropractic is sponsoring Healthy Kids Day this year at the Beatrice YMCA! This is a FREE event promoting health for our children! The first 100 kids will receive a FREE t-shirt! There will be games\, food\, and fun! Join us at 9:15 to kick off the day with a 1 mile FUN RUN! See you there!
X-ALT-DESC;FMTTYPE=text/html:<table class="uiInfoTable mvm profileInfoTable">\n	<tbody>\n		<tr>\n			<td class="data">\n				<div class="description summary">\n					YMCA Healthy Kids Day<br />\n					<br />\n					Saturday\, April 2<br />\n					10 am - 12 pm<br />\n					<br />\n					1 mile Fun Run at 9:15!<br />\n					<br />\n					Make it a play date! Beatrice Family Chiropractic is sponsoring Healthy Kids Day this year at the Beatrice YMCA! This is a FREE event promoting health for our children! The first 100 kids will receive a FREE t-shirt! There will be games\, food\, and fun! Join us at 9:15 to kick off the day with a 1 mile FUN RUN! See you there!<span _fck_bookmark="1" style="display: none">&nbsp\;</span></div>\n			</td>\n		</tr>\n	</tbody>\n</table>\n
LOCATION:Beatrice Family YMCA 1801 Scott Street
UID:e.41.4417
SEQUENCE:3
DTSTAMP:20260424T195217Z
URL:https://business.beatricechamber.com/events/details/ymca-healthy-kids-day-04-02-2011-4417
END:VEVENT

END:VCALENDAR
