BEGIN:VCALENDAR
VERSION:2.0
PRODID:-//ChamberMaster//Event Calendar 2.0//EN
METHOD:PUBLISH
X-PUBLISHED-TTL:P3D
REFRESH-INTERVAL:P3D
CALSCALE:GREGORIAN
BEGIN:VEVENT
DTSTART:20120414T150000Z
DTEND:20120414T170000Z
X-MICROSOFT-CDO-ALLDAYEVENT:FALSE
SUMMARY:YMCA Healthy Kids Day
DESCRIPTION:Healthy Kids Day is the YMCA national initiative to improve the health and well-being of families across the country.  On this day\, the YMCA holds events to encourage parents to make play dates with their kids every day as a simple way to become a healthier\, more active family.  As a leading nonprofit for healthy living\, the YMCA created Healthy Kids Day to celebrate and teach good health for kids\, encourage active play and inspire a lifetime love of physical activity.  By making time for active play every day\, families can work together\, have fun and achieve greater health and well-being for their spirit\, mind\, and body.
X-ALT-DESC;FMTTYPE=text/html:Healthy Kids Day is the YMCA national initiative to improve the health and well-being of families across the country.&nbsp\; On this day\, the YMCA holds events to encourage parents to make play dates with their kids every day as a simple way to become a healthier\, more active family.&nbsp\; As a leading nonprofit for healthy living\, the YMCA created Healthy Kids Day to celebrate and teach good health for kids\, encourage active play and inspire a lifetime love of physical activity.&nbsp\; By making time for active play every day\, families can work together\, have fun and achieve greater health and well-being for their spirit\, mind\, and body.
LOCATION:Beatrice YMCA\, 1801 Scott St.\, Beatrice\, NE 68310
UID:e.41.5337
SEQUENCE:3
DTSTAMP:20260422T154756Z
URL:https://business.beatricechamber.com/events/details/ymca-healthy-kids-day-04-14-2012-5337
END:VEVENT

END:VCALENDAR
