BEGIN:VCALENDAR
VERSION:2.0
PRODID:-//ChamberMaster//Event Calendar 2.0//EN
METHOD:PUBLISH
X-PUBLISHED-TTL:P3D
REFRESH-INTERVAL:P3D
CALSCALE:GREGORIAN
BEGIN:VEVENT
DTSTART;VALUE=DATE:20111124
DTEND;VALUE=DATE:20111125
TRANSP:TRANSPARENT
X-MICROSOFT-CDO-ALLDAYEVENT:TRUE
SUMMARY:YMCA Turkey Trot
DESCRIPTION:Beatrice YMCA's Turkey Trot Race\n\n1801 Scott Street\, Beatrice\n\n\n\nNovember 24\n\n8:30 am\n\n\n\nRunners can sign up for a 2 or 5 mile race or the 1 mile family run/walk.  First and second place medals will be given to men and women in 6 differenct age divisions.  Participants will be entered into a raffle to win a free turkey among other prizes.\n\n\n\nThose who sign up by November 11 will receive a shirt on the day of the race\, those that sign up after this date will be able to pick-up their shirt on or after December 15.
X-ALT-DESC;FMTTYPE=text/html:Beatrice YMCA&#39\;s Turkey Trot Race<br />\n1801 Scott Street\, Beatrice<br />\n<br />\nNovember 24<br />\n8:30 am<br />\n<br />\nRunners can sign up for a 2 or 5 mile race or the&nbsp\;1 mile family run/walk.&nbsp\; First and second place medals will be given to men and women in 6 differenct age divisions.&nbsp\; Participants will be entered into a raffle to win a free turkey among other prizes.<br />\n<br />\nThose who sign up by November 11 will receive a shirt on the day of the race\, those that sign up after this date will be able to pick-up their shirt on or after December 15.
LOCATION:
UID:e.41.5216
SEQUENCE:3
DTSTAMP:20260424T095946Z
URL:https://business.beatricechamber.com/events/details/ymca-turkey-trot-11-24-2011-5216
END:VEVENT

END:VCALENDAR
