BEGIN:VCALENDAR
VERSION:2.0
PRODID:-//ChamberMaster//Event Calendar 2.0//EN
METHOD:PUBLISH
X-PUBLISHED-TTL:P3D
REFRESH-INTERVAL:P3D
CALSCALE:GREGORIAN
BEGIN:VEVENT
DTSTART:20111027T233000Z
DTEND:20111028T013000Z
X-MICROSOFT-CDO-ALLDAYEVENT:FALSE
SUMMARY:You Are Invited ~ Premier Designs Jewelry
DESCRIPTION:We will try on jewelry and talk about fashion and accessories.  The new fall collection is fabulous and the Glitz and Glamor collection just arrived.  It's gorgeous!\n\n\n\nPremier Designs is offering GIFT WITH PURCHASE!  Spend $75 and you may select one item $40 or less for only five bucks!  Jewelry is the #1 gift item and it's not too early to start your holiday shopping.\n\n\n\nPlease pass on to your office staff.  Everyone is welcome and bring a friend!\n\n\n\nCan't make it?  Contact Linda or Lona for a catalog.
X-ALT-DESC;FMTTYPE=text/html:We will try on jewelry and talk about fashion and accessories.&nbsp\; The new fall collection is fabulous and the Glitz and Glamor collection just arrived.&nbsp\; It&#39\;s gorgeous!<br />\n<br />\nPremier Designs is offering GIFT WITH PURCHASE!&nbsp\; Spend $75 and you may select one item $40 or less for only five bucks!&nbsp\; Jewelry is the #1 gift item and it&#39\;s not too early to start your holiday shopping.<br />\n<br />\nPlease pass on to your office staff.&nbsp\; Everyone is welcome and bring a friend!<br />\n<br />\nCan&#39\;t make it?&nbsp\; Contact Linda or Lona for a catalog.
LOCATION:D' Andrea Realty\, LLC 226 S 6th Street Beatrice NE
UID:e.41.5203
SEQUENCE:3
DTSTAMP:20260424T111819Z
URL:https://business.beatricechamber.com/events/details/you-are-invited-premier-designs-jewelry-10-27-2011-5203
END:VEVENT

END:VCALENDAR
