BEGIN:VCALENDAR
VERSION:2.0
PRODID:-//ChamberMaster//Event Calendar 2.0//EN
METHOD:PUBLISH
X-PUBLISHED-TTL:P3D
REFRESH-INTERVAL:P3D
CALSCALE:GREGORIAN
BEGIN:VEVENT
DTSTART;VALUE=DATE:20101108
DTEND;VALUE=DATE:20101113
TRANSP:TRANSPARENT
X-MICROSOFT-CDO-ALLDAYEVENT:TRUE
SUMMARY:Youth Appreciation Week by Beatrice Optimist!
DESCRIPTION:YOUTH APPRECIATION WEEK\n\n\n\nNOVEMBER 8TH-12TH\n\n\n\nFREE ADMISSION FOR KIDS!\n\n\n\nThe Beatrice Optimists are sponsoring free bowling\, roller skating\, swimming & movies.\n\n\n\nMonday\,Nov. 8th\n\n\n\nBowling @ Orange Bowl\n\n3:30-5:30pm\n\n2223 Court Street\n\n\n\nTuesday\, Nov. 9th\n\n\n\nSkating @ Rolla-Rena\n\n4-4:45pm (beginners)  5-6:30pm  6:45-8:15pm\n\n1133 S. 6th Street\n\n\n\nWednesday\, Nov. 10th\n\n\n\nMovie @ Cinema 1\n\n5-7pm  7-9pm\n\n615 Court Street\n\n\n\nThursday\, Nov. 11th\n\n\n\nSwimming @ YMCA\n\n7-8:15pm\n\n\n\nFriday\, Nov. 12th\n\n\n\nBowling @ Tonka Lanes\n\n3:30-5:30pm\n\n1801 N. 5th Street
X-ALT-DESC;FMTTYPE=text/html:<strong><span style="font-size: 14px">YOUTH APPRECIATION WEEK</span></strong><br />\n<br />\nNOVEMBER 8TH-12TH<br />\n<br />\nFREE ADMISSION FOR KIDS!<br />\n<br />\nThe Beatrice Optimists are sponsoring free bowling\, roller skating\, swimming &amp\; movies.<br />\n<br />\n<strong><u>Monday\,Nov. 8th</u></strong><br />\n<br />\nBowling @ Orange Bowl<br />\n3:30-5:30pm<br />\n2223 Court Street<br />\n<br />\n<strong><u>Tuesday\, Nov. 9th</u></strong><br />\n<br />\nSkating @ Rolla-Rena<br />\n4-4:45pm (beginners) &nbsp\;5-6:30pm&nbsp\; 6:45-8:15pm<br />\n1133 S. 6th Street<br />\n<br />\n<strong><u>Wednesday\, Nov. 10th</u></strong><br />\n<br />\nMovie @ Cinema 1<br />\n5-7pm&nbsp\; 7-9pm<br />\n615 Court Street<br />\n<br />\n<strong><u>Thursday\, Nov. 11th</u></strong><br />\n<br />\nSwimming @ YMCA<br />\n7-8:15pm<br />\n<br />\n<strong><u>Friday\, Nov. 12th</u></strong><br />\n<br />\nBowling @ Tonka Lanes<br />\n3:30-5:30pm<br />\n1801 N. 5th Street
LOCATION:
UID:e.41.2765
SEQUENCE:3
DTSTAMP:20260425T032804Z
URL:https://business.beatricechamber.com/events/details/youth-appreciation-week-by-beatrice-optimist-11-08-2010-2765
END:VEVENT

END:VCALENDAR
