BEGIN:VCALENDAR
VERSION:2.0
PRODID:-//ChamberMaster//Event Calendar 2.0//EN
METHOD:PUBLISH
X-PUBLISHED-TTL:P3D
REFRESH-INTERVAL:P3D
CALSCALE:GREGORIAN
BEGIN:VEVENT
DTSTART;VALUE=DATE:20111107
DTEND;VALUE=DATE:20111112
TRANSP:TRANSPARENT
X-MICROSOFT-CDO-ALLDAYEVENT:TRUE
SUMMARY:Youth Appreciation Week with Beatrice Optimist
DESCRIPTION:Beatrice Optimist Youth Appreciation Week\n\n\n\nNovember 7 - 11\n\nFREE ADMISSION FOR KIDS!\n\n\n\nMonday\, November 7\, 3:30 - 5:30 pm -\n\nBOWLING at "Orange Bowl"\, 2223 Court Street\n\n\n\n\n\nTuesday\, November 8\, 4 - 4:45 pm (beginners) & 5 - 6:30 pm & 6:45 - 8:15 pm -\n\nSKATING at "Rolla-Rena"\, 1133 S 6th Street\n\n\n\n\n\nWednesday\, November 9\, 5 -7 pm & 7 - 9 pm\n\nMOVIE at "Cinema I"\, 615 Court Street\n\n\n\n\n\nThursday\, November 10\, 7 - 8:15 pm\n\nSWIMMING at "YMCA"\, 1801 Scott Street\n\n\n\n\n\nFriday\, November 11\, 3:30 - 5:30 pm\n\nBOWLING at "Tonka Lanes" 1801 N 5th Street\n\n\n\nActivities are sponsored by Beatrice Optimist Club!
X-ALT-DESC;FMTTYPE=text/html:Beatrice Optimist Youth Appreciation Week<br />\n<br />\nNovember 7 - 11<br />\nFREE ADMISSION FOR KIDS!<br />\n<br />\nMonday\, November 7\, 3:30 - 5:30 pm&nbsp\;-<br />\nBOWLING at &quot\;Orange Bowl&quot\;\, 2223 Court Street<br />\n<br />\n<br />\nTuesday\, November 8\, 4 - 4:45 pm (beginners) &amp\; 5 - 6:30 pm &amp\; 6:45 - 8:15 pm -<br />\nSKATING at &quot\;Rolla-Rena&quot\;\, 1133 S 6th Street<br />\n<br />\n<br />\nWednesday\, November 9\, 5 -7 pm &amp\; 7 - 9 pm<br />\nMOVIE at &quot\;Cinema I&quot\;\, 615 Court Street<br />\n<br />\n<br />\nThursday\, November 10\, 7 - 8:15 pm<br />\nSWIMMING at &quot\;YMCA&quot\;\, 1801 Scott Street<br />\n<br />\n<br />\nFriday\, November 11\, 3:30 - 5:30 pm<br />\nBOWLING at &quot\;Tonka Lanes&quot\; 1801 N 5th Street<br />\n<br />\nActivities are sponsored by Beatrice Optimist Club!
LOCATION:
UID:e.41.5236
SEQUENCE:3
DTSTAMP:20260424T100002Z
URL:https://business.beatricechamber.com/events/details/youth-appreciation-week-with-beatrice-optimist-11-07-2011-5236
END:VEVENT

END:VCALENDAR
