BEGIN:VCALENDAR
VERSION:2.0
PRODID:-//ChamberMaster//Event Calendar 2.0//EN
METHOD:PUBLISH
X-PUBLISHED-TTL:P3D
REFRESH-INTERVAL:P3D
CALSCALE:GREGORIAN
BEGIN:VEVENT
DTSTART;VALUE=DATE:20110226
DTEND;VALUE=DATE:20110227
TRANSP:TRANSPARENT
X-MICROSOFT-CDO-ALLDAYEVENT:TRUE
SUMMARY:Youth Basketball Tournament
DESCRIPTION:Youth Basketball Tournament\n\nhosted by Gage County Tourism\n\n\n\nGames start at 8 a.m.\n\nSaturday\, February 26\n\n\n\nGames will be played at several gyms in Beatrice\, NE\n\n\n\nFor bracket information\, contact Jim at Gage County Tourism.  (402) 223-2338\n\n\n\nsponsored by Subway & McDonald's
X-ALT-DESC;FMTTYPE=text/html:Youth Basketball Tournament<br />\nhosted by Gage County Tourism<br />\n<br />\nGames start at 8 a.m.<br />\nSaturday\, February 26<br />\n<br />\nGames will be played at several gyms in Beatrice\, NE<br />\n<br />\nFor bracket information\, contact Jim at Gage County Tourism.&nbsp\; (402) 223-2338<br />\n<br />\nsponsored by Subway &amp\; McDonald&#39\;s<br />\n<br />\n
LOCATION:
UID:e.41.4179
SEQUENCE:3
DTSTAMP:20260424T230004Z
URL:https://business.beatricechamber.com/events/details/youth-basketball-tournament-02-26-2011-4179
END:VEVENT

END:VCALENDAR
