BEGIN:VCALENDAR
VERSION:2.0
PRODID:-//ChamberMaster//Event Calendar 2.0//EN
METHOD:PUBLISH
X-PUBLISHED-TTL:P3D
REFRESH-INTERVAL:P3D
CALSCALE:GREGORIAN
BEGIN:VEVENT
DTSTART;VALUE=DATE:20100227
DTEND;VALUE=DATE:20100301
TRANSP:TRANSPARENT
X-MICROSOFT-CDO-ALLDAYEVENT:TRUE
SUMMARY:Youth Basketball Tournament
DESCRIPTION:Youth Basketball Tournament Saturday\, February 27 & Sunday\, February 28  4th thru 8th grade boys and girls teams will play at Beatrice High School\, Beatrice Middle School\, Beatrice City Auditorium and Beatrice YMCA Hosted by Beatrice Area Chamber of Commerce & Gage County Tourism For more information contact Jim Spangler at 223-2338 or Tom Bardsley at 223-5264.
X-ALT-DESC;FMTTYPE=text/html:<h1 style="text-align: center"><span style="font-family: Tahoma"><span style="font-size: x-large">Youth Basketball Tournament</span></span></h1><div style="text-align: center">&nbsp\;</div><div style="text-align: center"><u><span style="font-size: large">Saturday\, February 27 &amp\;&nbsp\;Sunday\, February 28</span></u></div><div style="text-align: center">&nbsp\;</div><div style="text-align: center">&nbsp\;</div><div><div style="text-align: center"><span style="font-size: medium">4th thru 8th grade boys and girls teams will play at Beatrice High School\, Beatrice Middle School\, Beatrice City Auditorium and Beatrice YMCA</span></div></div><div style="text-align: center">&nbsp\;</div><div style="text-align: center"><span style="font-size: small"><em>Hosted by Beatrice Area Chamber of Commerce &amp\;&nbsp\;Gage County Tourism</em></span></div><div style="text-align: center">&nbsp\;</div><div style="text-align: center"><span style="font-size: medium">For more information contact Jim Spangler at 223-2338 or Tom Bardsley at 223-5264.</span></div><div style="text-align: center">&nbsp\;</div>
LOCATION:
UID:e.41.1654
SEQUENCE:3
DTSTAMP:20260425T165842Z
URL:https://business.beatricechamber.com/events/details/youth-basketball-tournament-02-27-2010-1654
END:VEVENT

END:VCALENDAR
